
BEGIN:VCALENDAR
VERSION:2.0
CALSCALE:GREGORIAN
BEGIN:VEVENT
URL;VALUE=URI:https://www.boardoftrade.com/events/6620
DTSTART:20201215T193000Z
DTEND:20201215T202000Z
UID:6620eventcalendar.boardoftrade.com
DTSTAMP:20260419T191512Z
LOCATION:
DESCRIPTION:Schedule: \nOnline Program 11:30 a.m.- 12:20 p.m. PT\n \nEvent Detail Page: https://www.boardoftrade.com/events/6620
X-ALT-DESC;FMTTYPE=text/html:<!doctype html><html><body><div>Schedule: <p>Online Program 11:30 a.m.- 12:20 p.m. PT</p></div>&nbsp\;<div>Event Detail Page: https://www.boardoftrade.com/events/6620</div></body></html>

SUMMARY:Address from the Bank of Canada: Tiff Macklem
END:VEVENT
END:VCALENDAR