
BEGIN:VCALENDAR
VERSION:2.0
CALSCALE:GREGORIAN
BEGIN:VEVENT
URL;VALUE=URI:https://www.boardoftrade.com/events/6619
DTSTART:20200928T190000Z
DTEND:20200928T200000Z
UID:6619eventcalendar.boardoftrade.com
DTSTAMP:20260419T211822Z
LOCATION:
DESCRIPTION:Schedule: \nOnline Program 12:00 - 1:00 p.m. PT\n\nYou will be sent a Zoom link to participate in this event by 10:00 a.m. PT on Monday\, September 28. Please do not share the link as it will inhibit your ability to join.\n \nEvent Detail Page: https://www.boardoftrade.com/events/6619
X-ALT-DESC;FMTTYPE=text/html:<!doctype html><html><body><div>Schedule: <p>Online Program 12:00 - 1:00 p.m. PT<BR><BR><b>You will be sent a Zoom link to participate in this event by 10:00 a.m. PT on Monday\, September 28. Please do not share the link as it will inhibit your ability to join.</b></p></div>&nbsp\;<div>Event Detail Page: https://www.boardoftrade.com/events/6619</div></body></html>

SUMMARY:Tech Sector Drives Economic Recovery
END:VEVENT
END:VCALENDAR