
BEGIN:VCALENDAR
VERSION:2.0
CALSCALE:GREGORIAN
BEGIN:VEVENT
URL;VALUE=URI:https://www.boardoftrade.com/events/6612
DTSTART:20201020T160000Z
DTEND:20201020T173000Z
UID:6612eventcalendar.boardoftrade.com
DTSTAMP:20260419T210814Z
LOCATION:
DESCRIPTION:Schedule: \nOnline Program 9:00 - 10:30 a.m.\n \nEvent Detail Page: https://www.boardoftrade.com/events/6612
X-ALT-DESC;FMTTYPE=text/html:<!doctype html><html><body><div>Schedule: <p>Online Program 9:00 - 10:30 a.m.</p></div>&nbsp\;<div>Event Detail Page: https://www.boardoftrade.com/events/6612</div></body></html>

SUMMARY:Health Care Forum 2020: Health in a Time of COVID-19 (Session 1)
END:VEVENT
END:VCALENDAR