
BEGIN:VCALENDAR
VERSION:2.0
CALSCALE:GREGORIAN
BEGIN:VEVENT
URL;VALUE=URI:https://www.boardoftrade.com/events/6610
DTSTART:20200912T160000Z
DTEND:20200912T180000Z
UID:6610eventcalendar.boardoftrade.com
DTSTAMP:20260419T210036Z
LOCATION:
DESCRIPTION:Schedule: \nLOT 101 and Workshop:  9:00 - 11:00 a.m. PT\n\n\nYou will be sent a Zoom  link to participate in this event by 2:00 p.m. PT on Wednessday\, September 9. Please do not share the link as it will inhibit your ability to join.\n \nEvent Detail Page: https://www.boardoftrade.com/events/6610
X-ALT-DESC;FMTTYPE=text/html:<!doctype html><html><body><div>Schedule: <p>LOT 101 and Workshop:  9:00 - 11:00 a.m. PT<BR><BR><BR><b>You will be sent a Zoom  link to participate in this event by 2:00 p.m. PT on Wednessday\, September 9. Please do not share the link as it will inhibit your ability to join.</b></p></div>&nbsp\;<div>Event Detail Page: https://www.boardoftrade.com/events/6610</div></body></html>

SUMMARY:LOT Leadership Development Day
END:VEVENT
END:VCALENDAR