
BEGIN:VCALENDAR
VERSION:2.0
CALSCALE:GREGORIAN
BEGIN:VEVENT
URL;VALUE=URI:https://www.boardoftrade.com/events/6605
DTSTART:20200825T170000Z
DTEND:20200825T190000Z
UID:6605eventcalendar.boardoftrade.com
DTSTAMP:20260419T210537Z
LOCATION:
DESCRIPTION:Schedule: \nOnline Program 10:00 a.m. - 12:00 p.m. PT\n\nYou will be sent a Zoom meeting link to participate in this event by 8:00 a.m. PT on August 25. Please do not share the link as it will inhibit your ability to join.\n \nEvent Detail Page: https://www.boardoftrade.com/events/6605
X-ALT-DESC;FMTTYPE=text/html:<!doctype html><html><body><div>Schedule: <p>Online Program 10:00 a.m. - 12:00 p.m. PT<BR><BR><b>You will be sent a Zoom meeting link to participate in this event by 8:00 a.m. PT on August 25. Please do not share the link as it will inhibit your ability to join.</b></p></div>&nbsp\;<div>Event Detail Page: https://www.boardoftrade.com/events/6605</div></body></html>

SUMMARY:Diversity and Inclusion Training: D&I Fundamentals
END:VEVENT
END:VCALENDAR