
BEGIN:VCALENDAR
VERSION:2.0
CALSCALE:GREGORIAN
BEGIN:VEVENT
URL;VALUE=URI:https://www.boardoftrade.com/events/6599
DTSTART:20200618T193000Z
DTEND:20200618T204500Z
UID:6599eventcalendar.boardoftrade.com
DTSTAMP:20260419T205131Z
LOCATION:
DESCRIPTION:Schedule: \nOnline Program 12:30-1:45 p.m. PT\n \nEvent Detail Page: https://www.boardoftrade.com/events/6599
X-ALT-DESC;FMTTYPE=text/html:<!doctype html><html><body><div>Schedule: <p>Online Program 12:30-1:45 p.m. PT</p></div>&nbsp\;<div>Event Detail Page: https://www.boardoftrade.com/events/6599</div></body></html>

SUMMARY:Bringing anti-racism and allyship to the business forefront
END:VEVENT
END:VCALENDAR