
BEGIN:VCALENDAR
VERSION:2.0
CALSCALE:GREGORIAN
BEGIN:VEVENT
URL;VALUE=URI:https://www.boardoftrade.com/events/6598
DTSTART:20200707T160000Z
DTEND:20200707T193000Z
UID:6598eventcalendar.boardoftrade.com
DTSTAMP:20260419T205206Z
LOCATION:Will be delivered via webinar |  |  | 
DESCRIPTION:Schedule: \nDay 1 - July 7\nProgram: 9:0 0 a.m.  - 12:30 p.m.\n\nDay 2 - July 9\nProgram: 9:00 a.m.  - 12:30 p.m.\n\n\n \nEvent Detail Page: https://www.boardoftrade.com/events/6598
X-ALT-DESC;FMTTYPE=text/html:<!doctype html><html><body><div>Schedule: <p>Day 1 - July 7<BR>Program: 9:0 0 a.m.  - 12:30 p.m.<BR><BR>Day 2 - July 9<BR>Program: 9:00 a.m.  - 12:30 p.m.<BR><BR></p></div>&nbsp\;<div>Event Detail Page: https://www.boardoftrade.com/events/6598</div></body></html>

SUMMARY:International e-Commerce Essentials - Kelowna
END:VEVENT
END:VCALENDAR