
BEGIN:VCALENDAR
VERSION:2.0
CALSCALE:GREGORIAN
BEGIN:VEVENT
URL;VALUE=URI:https://www.boardoftrade.com/events/6596
DTSTART:20200723T190000Z
DTEND:20200723T200000Z
UID:6596eventcalendar.boardoftrade.com
DTSTAMP:20260419T205137Z
LOCATION:
DESCRIPTION:Schedule: \nOnline Program 12:00 - 1:00 p.m. PT\n\nYou will be sent a Zoom link to participate in this event by 10:00 a.m. PT on Thursday\, July 23. Please do not share the link as it will inhibit your ability to join.\n \nEvent Detail Page: https://www.boardoftrade.com/events/6596
X-ALT-DESC;FMTTYPE=text/html:<!doctype html><html><body><div>Schedule: <p>Online Program 12:00 - 1:00 p.m. PT<BR><BR><b>You will be sent a Zoom link to participate in this event by 10:00 a.m. PT on Thursday\, July 23. Please do not share the link as it will inhibit your ability to join.</b></p></div>&nbsp\;<div>Event Detail Page: https://www.boardoftrade.com/events/6596</div></body></html>

SUMMARY:Business Recovery Series: How Capacity Conversations Can Help You Survive and Thrive
END:VEVENT
END:VCALENDAR