
BEGIN:VCALENDAR
VERSION:2.0
CALSCALE:GREGORIAN
BEGIN:VEVENT
URL;VALUE=URI:https://www.boardoftrade.com/events/6593
DTSTART:20200915T153000Z
DTEND:20200916T000000Z
UID:6593eventcalendar.boardoftrade.com
DTSTAMP:20260419T205206Z
LOCATION:
DESCRIPTION:Schedule: \nRegistration:  8:45 a.m. - 9:00 a.m. \nProgram:  9:00 a.m. - 12:00 p.m.\n\n \nEvent Detail Page: https://www.boardoftrade.com/events/6593
X-ALT-DESC;FMTTYPE=text/html:<!doctype html><html><body><div>Schedule: <p>Registration: &nbsp\;8:45 a.m. - 9:00 a.m. <BR>Program: &nbsp\;9:00 a.m. - 12:00 p.m.<BR></p></div>&nbsp\;<div>Event Detail Page: https://www.boardoftrade.com/events/6593</div></body></html>

SUMMARY:Vancouver Trade Accelerator Program
END:VEVENT
END:VCALENDAR