
BEGIN:VCALENDAR
VERSION:2.0
CALSCALE:GREGORIAN
BEGIN:VEVENT
URL;VALUE=URI:https://www.boardoftrade.com/events/6584
DTSTART:20200521T200000Z
DTEND:20200521T210000Z
UID:6584eventcalendar.boardoftrade.com
DTSTAMP:20260419T225116Z
LOCATION:
DESCRIPTION:Schedule: \nOnline Program 1:00 - 2:00 p.m. PT\n\nYou will be sent a link to participate in this event by 11:00 a.m. PT on Thursday\, May 21. Please do not share the link as it will inhibit your ability to join.\n \nEvent Detail Page: https://www.boardoftrade.com/events/6584
X-ALT-DESC;FMTTYPE=text/html:<!doctype html><html><body><div>Schedule: <p>Online Program 1:00 - 2:00 p.m. PT<BR><BR><b>You will be sent a link to participate in this event by 11:00 a.m. PT on Thursday\, May 21. Please do not share the link as it will inhibit your ability to join.</b></p></div>&nbsp\;<div>Event Detail Page: https://www.boardoftrade.com/events/6584</div></body></html>

SUMMARY:Business Reinvention Series: From recession to recovery - what to expect and why
END:VEVENT
END:VCALENDAR