
BEGIN:VCALENDAR
VERSION:2.0
CALSCALE:GREGORIAN
BEGIN:VEVENT
URL;VALUE=URI:https://www.boardoftrade.com/events/6582
DTSTART:20200513T010000Z
DTEND:20200513T013000Z
UID:6582eventcalendar.boardoftrade.com
DTSTAMP:20260419T224858Z
LOCATION:
DESCRIPTION:Schedule: \nOnline Program 6:00 - 6:30 p.m. PT\n\n \nEvent Detail Page: https://www.boardoftrade.com/events/6582
X-ALT-DESC;FMTTYPE=text/html:<!doctype html><html><body><div>Schedule: <p>Online Program 6:00 - 6:30 p.m. PT<BR></p></div>&nbsp\;<div>Event Detail Page: https://www.boardoftrade.com/events/6582</div></body></html>

SUMMARY:Your digital footprint and its importance during uncertain times
END:VEVENT
END:VCALENDAR