
BEGIN:VCALENDAR
VERSION:2.0
CALSCALE:GREGORIAN
BEGIN:VEVENT
URL;VALUE=URI:https://www.boardoftrade.com/events/6578
DTSTART:20200603T223000Z
DTEND:20200604T000000Z
UID:6578eventcalendar.boardoftrade.com
DTSTAMP:20260419T225000Z
LOCATION:
DESCRIPTION:Schedule: \nOnline Program 3:30 - 5:00 p.m. PT\n\n A link to participate in this event will be sent at 1:30 p.m. PT on Wednesday June 3. Email events@boardoftrade.com if you did not receive your link.  \n \nEvent Detail Page: https://www.boardoftrade.com/events/6578
X-ALT-DESC;FMTTYPE=text/html:<!doctype html><html><body><div>Schedule: <p>Online Program 3:30 - 5:00 p.m. PT<BR><BR><b> A link to participate in this event will be sent at 1:30 p.m. PT on Wednesday June 3. Email events@boardoftrade.com if you did not receive your link.  </b></p></div>&nbsp\;<div>Event Detail Page: https://www.boardoftrade.com/events/6578</div></body></html>

SUMMARY:Transportation Forum 2020 presented by Deloitte (Session 2)
END:VEVENT
END:VCALENDAR