
BEGIN:VCALENDAR
VERSION:2.0
CALSCALE:GREGORIAN
BEGIN:VEVENT
URL;VALUE=URI:https://www.boardoftrade.com/events/6577
DTSTART:20200601T160000Z
DTEND:20200601T170000Z
UID:6577eventcalendar.boardoftrade.com
DTSTAMP:20260419T225153Z
LOCATION:
DESCRIPTION:Schedule: \nOnline Program 09:00 - 10:00 a.m. PT\n\nYou will be sent a link to participate in this event by 7:00 a.m. PT on Monday June 1. Please do not share the link as it will inhibit your ability to join.\n \nEvent Detail Page: https://www.boardoftrade.com/events/6577
X-ALT-DESC;FMTTYPE=text/html:<!doctype html><html><body><div>Schedule: <p>Online Program 09:00 - 10:00 a.m. PT<BR><BR><b>You will be sent a link to participate in this event by 7:00 a.m. PT on Monday June 1. Please do not share the link as it will inhibit your ability to join.</b></p></div>&nbsp\;<div>Event Detail Page: https://www.boardoftrade.com/events/6577</div></body></html>

SUMMARY:Transportation Forum 2020 presented by Deloitte (Session 1)
END:VEVENT
END:VCALENDAR