
BEGIN:VCALENDAR
VERSION:2.0
CALSCALE:GREGORIAN
BEGIN:VEVENT
URL;VALUE=URI:https://www.boardoftrade.com/events/6564
DTSTART:20200408T233000Z
DTEND:20200409T000000Z
UID:6564eventcalendar.boardoftrade.com
DTSTAMP:20260419T225153Z
LOCATION:
DESCRIPTION:Schedule: \nOnline Program 4:30 - 5:00 p.m. PT\n \nEvent Detail Page: https://www.boardoftrade.com/events/6564
X-ALT-DESC;FMTTYPE=text/html:<!doctype html><html><body><div>Schedule: <p>Online Program 4:30 - 5:00 p.m. PT</p></div>&nbsp\;<div>Event Detail Page: https://www.boardoftrade.com/events/6564</div></body></html>

SUMMARY:Business Resiliency Series: The Honourable Mary Ng - Navigating COVID-19
END:VEVENT
END:VCALENDAR