
BEGIN:VCALENDAR
VERSION:2.0
CALSCALE:GREGORIAN
BEGIN:VEVENT
URL;VALUE=URI:https://www.boardoftrade.com/events/6559
DTSTART:20200401T200000Z
DTEND:20200401T204500Z
UID:6559eventcalendar.boardoftrade.com
DTSTAMP:20260419T225114Z
LOCATION:
DESCRIPTION:Schedule: \nOnline Program 1:00 - 1:45 p.m. PT\n \nEvent Detail Page: https://www.boardoftrade.com/events/6559
X-ALT-DESC;FMTTYPE=text/html:<!doctype html><html><body><div>Schedule: <p>Online Program 1:00 - 1:45 p.m. PT</p></div>&nbsp\;<div>Event Detail Page: https://www.boardoftrade.com/events/6559</div></body></html>

SUMMARY:Business Resiliency Series: Accessing Government Funding
END:VEVENT
END:VCALENDAR