
BEGIN:VCALENDAR
VERSION:2.0
CALSCALE:GREGORIAN
BEGIN:VEVENT
URL;VALUE=URI:https://www.boardoftrade.com/events/6557
DTSTART:20200320T200000Z
DTEND:20200320T204500Z
UID:6557eventcalendar.boardoftrade.com
DTSTAMP:20260419T225031Z
LOCATION:
DESCRIPTION:Schedule: \nOnline Program 1:00 - 1:45 p.m. PT\n \nEvent Detail Page: https://www.boardoftrade.com/events/6557
X-ALT-DESC;FMTTYPE=text/html:<!doctype html><html><body><div>Schedule: <p>Online Program 1:00 - 1:45 p.m. PT</p></div>&nbsp\;<div>Event Detail Page: https://www.boardoftrade.com/events/6557</div></body></html>

SUMMARY:Business Resiliency Series: Navigating COVID-19
END:VEVENT
END:VCALENDAR