
BEGIN:VCALENDAR
VERSION:2.0
CALSCALE:GREGORIAN
BEGIN:VEVENT
URL;VALUE=URI:https://www.boardoftrade.com/events/6548
DTSTART:20200402T230000Z
DTEND:20200403T003000Z
UID:6548eventcalendar.boardoftrade.com
DTSTAMP:20260419T224857Z
LOCATION:Pinnacle Hotel Harbourfront | Tuscany Room (Main Level) | 1133 W Hastings Street\, Vancouver  |  | 
DESCRIPTION:Schedule: \nRegistration and Networking:  4:00 - 4:30  p.m. \nProgram:  4:30 - 5:30 p.m.\n \nEvent Detail Page: https://www.boardoftrade.com/events/6548
X-ALT-DESC;FMTTYPE=text/html:<!doctype html><html><body><div>Schedule: <p>Registration and Networking: &nbsp\;4:00 - 4:30  p.m. <BR>Program: &nbsp\;4:30 - 5:30 p.m.</p></div>&nbsp\;<div>Event Detail Page: https://www.boardoftrade.com/events/6548</div></body></html>

SUMMARY:Kickstart Series: New Member Orientation and Networking
END:VEVENT
END:VCALENDAR