
BEGIN:VCALENDAR
VERSION:2.0
CALSCALE:GREGORIAN
BEGIN:VEVENT
URL;VALUE=URI:https://www.boardoftrade.com/events/6544
DTSTART:20200602T160000Z
DTEND:20200602T193000Z
UID:6544eventcalendar.boardoftrade.com
DTSTAMP:20260419T224841Z
LOCATION:Will be delivered via webinar |  |  | 
DESCRIPTION:Schedule: \nDay 1: June 2nd \nRegistration: 8:45\nProgram: 9:00am  - 12:30 p.m.\n\nDay 2: June 4th \nRegistration: 8:45\nProgram: 9:00am  - 12:30 p.m.\n\n\n \nEvent Detail Page: https://www.boardoftrade.com/events/6544
X-ALT-DESC;FMTTYPE=text/html:<!doctype html><html><body><div>Schedule: <p>Day 1: June 2nd <BR>Registration: 8:45<BR>Program: 9:00am  - 12:30 p.m.<BR><BR>Day 2: June 4th <BR>Registration: 8:45<BR>Program: 9:00am  - 12:30 p.m.<BR><BR></p></div>&nbsp\;<div>Event Detail Page: https://www.boardoftrade.com/events/6544</div></body></html>

SUMMARY:International e-Commerce Essentials - Vancouver
END:VEVENT
END:VCALENDAR