
BEGIN:VCALENDAR
VERSION:2.0
CALSCALE:GREGORIAN
BEGIN:VEVENT
URL;VALUE=URI:https://www.boardoftrade.com/events/6543
DTSTART:20200320T000000Z
DTEND:20200320T013000Z
UID:6543eventcalendar.boardoftrade.com
DTSTAMP:20260419T224959Z
LOCATION:New York Institute of Technology - Vancouver Campus  | Suite 1700 - 701 W. Georgia St. | Vancouver | 
DESCRIPTION:Schedule: \nReception:  5:00 - 6:30 p.m.\n \nEvent Detail Page: https://www.boardoftrade.com/events/6543
X-ALT-DESC;FMTTYPE=text/html:<!doctype html><html><body><div>Schedule: <p>Reception: &nbsp\;5:00 - 6:30 p.m.</p></div>&nbsp\;<div>Event Detail Page: https://www.boardoftrade.com/events/6543</div></body></html>

SUMMARY:Members' Reception at  New York Institute of Technology
END:VEVENT
END:VCALENDAR