
BEGIN:VCALENDAR
VERSION:2.0
CALSCALE:GREGORIAN
BEGIN:VEVENT
URL;VALUE=URI:https://www.boardoftrade.com/events/6540
DTSTART:20200314T200000Z
DTEND:20200314T230000Z
UID:6540eventcalendar.boardoftrade.com
DTSTAMP:20260419T224825Z
LOCATION:Ronald McDonald House4567 Heather Street\, Vancouver | 
DESCRIPTION:Schedule: \nRonald McDonald House tour: 1:00  - 1:15 p.m.  \nTidying Rooms & Toy Cleaning: 1:15  - 4:00 p.m.\n \nEvent Detail Page: https://www.boardoftrade.com/events/6540
X-ALT-DESC;FMTTYPE=text/html:<!doctype html><html><body><div>Schedule: <p>Ronald McDonald House tour: 1:00  - 1:15 p.m.  <BR>Tidying Rooms & Toy Cleaning: 1:15  - 4:00 p.m.</p></div>&nbsp\;<div>Event Detail Page: https://www.boardoftrade.com/events/6540</div></body></html>

SUMMARY:Volunteer Toy Cleanup at Ronald McDonald House
END:VEVENT
END:VCALENDAR