
BEGIN:VCALENDAR
VERSION:2.0
CALSCALE:GREGORIAN
BEGIN:VEVENT
URL;VALUE=URI:https://www.boardoftrade.com/events/6537
DTSTART:20200311T143000Z
DTEND:20200311T160000Z
UID:6537eventcalendar.boardoftrade.com
DTSTAMP:20260419T224857Z
LOCATION:Coast Coal Harbour Hotel - Ballroom A&amp\;B1180 W Hastings St\, Vancouver | 
DESCRIPTION:Schedule: \nRegistration and Buffet Breakfast:  7:30 - 8:00 a.m.\nProgram:   8:00 - 9:00 a.m.\n \nEvent Detail Page: https://www.boardoftrade.com/events/6537
X-ALT-DESC;FMTTYPE=text/html:<!doctype html><html><body><div>Schedule: <p>Registration and Buffet Breakfast: &nbsp\;7:30 - 8:00 a.m.<BR>Program: &nbsp\; 8:00 - 9:00 a.m.</p></div>&nbsp\;<div>Event Detail Page: https://www.boardoftrade.com/events/6537</div></body></html>

SUMMARY:What does opportunity for B.C. look like? Breakfast with Andrew Wilkinson
END:VEVENT
END:VCALENDAR