
BEGIN:VCALENDAR
VERSION:2.0
CALSCALE:GREGORIAN
BEGIN:VEVENT
URL;VALUE=URI:https://www.boardoftrade.com/events/6532
DTSTART:20200313T143000Z
DTEND:20200313T210000Z
UID:6532eventcalendar.boardoftrade.com
DTSTAMP:20260419T224938Z
LOCATION:Coast Mountain CollegeMain Floor353 5 St.Prince Rupert\, B.C. |  |  | 
DESCRIPTION:Schedule: \nLight Breakfast & Registration: 7:30 - 8:00 a.m. \nProgram: 8:00 a.m. - 12:00 p.m.\nNetworking Lunch: 12:00 - 12:45 p.m.\nProgram: 12:45 - 2:00 p.m.\n\n \nEvent Detail Page: https://www.boardoftrade.com/events/6532
X-ALT-DESC;FMTTYPE=text/html:<!doctype html><html><body><div>Schedule: <p>Light Breakfast & Registration: 7:30 - 8:00 a.m. <BR>Program: 8:00 a.m. - 12:00 p.m.<BR>Networking Lunch: 12:00 - 12:45 p.m.<BR>Program: 12:45 - 2:00 p.m.<BR></p></div>&nbsp\;<div>Event Detail Page: https://www.boardoftrade.com/events/6532</div></body></html>

SUMMARY:Prince Rupert Export e-Commerce Essentials
END:VEVENT
END:VCALENDAR