
BEGIN:VCALENDAR
VERSION:2.0
CALSCALE:GREGORIAN
BEGIN:VEVENT
URL;VALUE=URI:https://www.boardoftrade.com/events/6527
DTSTART:20200814T153000Z
DTEND:20200815T010000Z
UID:6527eventcalendar.boardoftrade.com
DTSTAMP:20260419T205302Z
LOCATION:Westwood Plateau Golf &amp\; Country Club | 3251 Plateau Blvd  | Coquitlam | 
DESCRIPTION:Schedule: \nRegistration: 8:30 a.m. - 11:10 a.m. \nGolfers to arrive 30 minutes prior to assigned tee-time\n\nTee-Times (Crossover Start): 9:00 a.m. - 11:10 a.m.\n\nAwards Ceremony: TBD\n \nEvent Detail Page: https://www.boardoftrade.com/events/6527
X-ALT-DESC;FMTTYPE=text/html:<!doctype html><html><body><div>Schedule: <p>Registration: 8:30 a.m. - 11:10 a.m. <BR>Golfers to arrive 30 minutes prior to assigned tee-time<BR><BR><b>Tee-Times (Crossover Start): 9:00 a.m. - 11:10 a.m.</b><BR><BR>Awards Ceremony: TBD</p></div>&nbsp\;<div>Event Detail Page: https://www.boardoftrade.com/events/6527</div></body></html>

SUMMARY:Pro-Am Golf Tournament
END:VEVENT
END:VCALENDAR