
BEGIN:VCALENDAR
VERSION:2.0
CALSCALE:GREGORIAN
BEGIN:VEVENT
URL;VALUE=URI:https://www.boardoftrade.com/events/6526
DTSTART:20200528T003000Z
DTEND:20200528T023000Z
UID:6526eventcalendar.boardoftrade.com
DTSTAMP:20260419T225037Z
LOCATION:
DESCRIPTION:Event Detail Page: https://www.boardoftrade.com/events/6526
X-ALT-DESC;FMTTYPE=text/html:<!doctype html><html><body><div>Event Detail Page: https://www.boardoftrade.com/events/6526</div></body></html>

SUMMARY:Wendy McDonald Diversity Awards Reception 2020
END:VEVENT
END:VCALENDAR