
BEGIN:VCALENDAR
VERSION:2.0
CALSCALE:GREGORIAN
BEGIN:VEVENT
URL;VALUE=URI:https://www.boardoftrade.com/events/6525
DTSTART:20200205T013000Z
DTEND:20200205T040000Z
UID:6525eventcalendar.boardoftrade.com
DTSTAMP:20260419T225037Z
LOCATION:Pinnacle Hotel Harbourfront 1133 W Hastings St\, VancouverRoom: Vistas 360 - 19th floor | 
DESCRIPTION:Schedule: \nRegistration and Reception 5:30-6:00 p.m.\nWelcome and Presentation: 6:00-6:30 p.m.\nReception and Networking 6:30-8:00 p.m.\n \nEvent Detail Page: https://www.boardoftrade.com/events/6525
X-ALT-DESC;FMTTYPE=text/html:<!doctype html><html><body><div>Schedule: <p>Registration and Reception 5:30-6:00 p.m.<BR>Welcome and Presentation: 6:00-6:30 p.m.<BR>Reception and Networking 6:30-8:00 p.m.</p></div>&nbsp\;<div>Event Detail Page: https://www.boardoftrade.com/events/6525</div></body></html>

SUMMARY:A Night of Non-Profit Engagement
END:VEVENT
END:VCALENDAR