
BEGIN:VCALENDAR
VERSION:2.0
CALSCALE:GREGORIAN
BEGIN:VEVENT
URL;VALUE=URI:https://www.boardoftrade.com/events/6524
DTSTART:20200121T220000Z
DTEND:20200122T000000Z
UID:6524eventcalendar.boardoftrade.com
DTSTAMP:20260420T001409Z
LOCATION:Vancouver Film School 151 W Cordova Street\, Vancouver | 
DESCRIPTION:Schedule: \nRegistration: 2:00 p.m.\nProgram: 2:30  - 4:00 p.m.\n \nEvent Detail Page: https://www.boardoftrade.com/events/6524
X-ALT-DESC;FMTTYPE=text/html:<!doctype html><html><body><div>Schedule: <p>Registration: 2:00 p.m.<BR>Program: 2:30  - 4:00 p.m.</p></div>&nbsp\;<div>Event Detail Page: https://www.boardoftrade.com/events/6524</div></body></html>

SUMMARY:Netflix: "Wicked Hard Decisions"
END:VEVENT
END:VCALENDAR