
BEGIN:VCALENDAR
VERSION:2.0
CALSCALE:GREGORIAN
BEGIN:VEVENT
URL;VALUE=URI:https://www.boardoftrade.com/events/6521
DTSTART:20200415T183000Z
DTEND:20200415T203000Z
UID:6521eventcalendar.boardoftrade.com
DTSTAMP:20260419T225154Z
LOCATION:Fairmont Waterfront Hotel - Waterfront Ballroom900 Canada Place\, Vancouver | 
DESCRIPTION:Schedule: \nRegistration:  11:30 a.m.\nLunch & Program:  12:00 - 1:30 p.m.\n \nEvent Detail Page: https://www.boardoftrade.com/events/6521
X-ALT-DESC;FMTTYPE=text/html:<!doctype html><html><body><div>Schedule: <p>Registration: &nbsp\;11:30 a.m.<BR>Lunch & Program: &nbsp\;12:00 - 1:30 p.m.</p></div>&nbsp\;<div>Event Detail Page: https://www.boardoftrade.com/events/6521</div></body></html>

SUMMARY:UBC's 2020 Vision
END:VEVENT
END:VCALENDAR