
BEGIN:VCALENDAR
VERSION:2.0
CALSCALE:GREGORIAN
BEGIN:VEVENT
URL;VALUE=URI:https://www.boardoftrade.com/events/6519
DTSTART:20200417T144500Z
DTEND:20200417T220000Z
UID:6519eventcalendar.boardoftrade.com
DTSTAMP:20260419T224959Z
LOCATION:Webinar | 
DESCRIPTION:Schedule: \nRegistration: 7:45 - 8:00 a.m. \nProgram: 8:00 a.m. - 12:00 p.m.\nLunch: 12:00 - 12:45 p.m.\nProgram: 12:45 - 3:00 p.m.\n\n \nEvent Detail Page: https://www.boardoftrade.com/events/6519
X-ALT-DESC;FMTTYPE=text/html:<!doctype html><html><body><div>Schedule: <p>Registration: 7:45 - 8:00 a.m. <BR>Program: 8:00 a.m. - 12:00 p.m.<BR>Lunch: 12:00 - 12:45 p.m.<BR>Program: 12:45 - 3:00 p.m.<BR></p></div>&nbsp\;<div>Event Detail Page: https://www.boardoftrade.com/events/6519</div></body></html>

SUMMARY:Tri-Cities International e-Commerce Essentials
END:VEVENT
END:VCALENDAR