
BEGIN:VCALENDAR
VERSION:2.0
CALSCALE:GREGORIAN
BEGIN:VEVENT
URL;VALUE=URI:https://www.boardoftrade.com/events/6518
DTSTART:20200213T153000Z
DTEND:20200213T170000Z
UID:6518eventcalendar.boardoftrade.com
DTSTAMP:20260419T225204Z
LOCATION:Fairmont Hotel Vancouver - The Roof (15th Floor)900 W Georgia St\, Vancouver |  |  |  |  |  | 
DESCRIPTION:Schedule: \nNetworking Breakfast and Registration:  7:30 - 8:00 a.m.\nProgram:   8:00 - 9:00 a.m.\n \nEvent Detail Page: https://www.boardoftrade.com/events/6518
X-ALT-DESC;FMTTYPE=text/html:<!doctype html><html><body><div>Schedule: <p>Networking Breakfast and Registration: &nbsp\;7:30 - 8:00 a.m.<BR>Program: &nbsp\; 8:00 - 9:00 a.m.</p></div>&nbsp\;<div>Event Detail Page: https://www.boardoftrade.com/events/6518</div></body></html>

SUMMARY:Leadership Lab
END:VEVENT
END:VCALENDAR