
BEGIN:VCALENDAR
VERSION:2.0
CALSCALE:GREGORIAN
BEGIN:VEVENT
URL;VALUE=URI:https://www.boardoftrade.com/events/6516
DTSTART:20200212T150000Z
DTEND:20200212T170000Z
UID:6516eventcalendar.boardoftrade.com
DTSTAMP:20260419T224934Z
LOCATION:Pinnacle Hotel Harbourfront -Tuscany Room1133 West Hastings StreetVancouver | 
DESCRIPTION:Schedule: \nOpen Networking and Breakfast:  7:00 - 7:45 a.m. \nFacilitated Networking:  7:45 - 8:00 a.m.\nPresentation and Q&A:  8:00 - 9:00 a.m.\n\n \nEvent Detail Page: https://www.boardoftrade.com/events/6516
X-ALT-DESC;FMTTYPE=text/html:<!doctype html><html><body><div>Schedule: <p>Open Networking and Breakfast: &nbsp\;7:00 - 7:45 a.m. <BR>Facilitated Networking: &nbsp\;7:45 - 8:00 a.m.<BR>Presentation and Q&A: &nbsp\;8:00 - 9:00 a.m.<BR></p></div>&nbsp\;<div>Event Detail Page: https://www.boardoftrade.com/events/6516</div></body></html>

SUMMARY:Thrive Series: Hiring and firing for small businesses
END:VEVENT
END:VCALENDAR