
BEGIN:VCALENDAR
VERSION:2.0
CALSCALE:GREGORIAN
BEGIN:VEVENT
URL;VALUE=URI:https://www.boardoftrade.com/events/6512
DTSTART:20200122T154500Z
DTEND:20200122T173000Z
UID:6512eventcalendar.boardoftrade.com
DTSTAMP:20260420T001025Z
LOCATION:Pan Pacific Vancouver Hotel   | Crystal Pavilion | 999 Canada Place\, Vancouver |  |  | 
DESCRIPTION:Schedule: \nRegistration: 7:45 a.m.\nBreakfast & Program: 8:00 a.m. - 9:30 a.m.\n \nEvent Detail Page: https://www.boardoftrade.com/events/6512
X-ALT-DESC;FMTTYPE=text/html:<!doctype html><html><body><div>Schedule: <p>Registration: 7:45 a.m.<BR>Breakfast & Program: 8:00 a.m. - 9:30 a.m.</p></div>&nbsp\;<div>Event Detail Page: https://www.boardoftrade.com/events/6512</div></body></html>

SUMMARY:Brexit: Opportunities & Obstacles
END:VEVENT
END:VCALENDAR