
BEGIN:VCALENDAR
VERSION:2.0
CALSCALE:GREGORIAN
BEGIN:VEVENT
URL;VALUE=URI:https://www.boardoftrade.com/events/6511
DTSTART:20200228T150000Z
DTEND:20200228T170000Z
UID:6511eventcalendar.boardoftrade.com
DTSTAMP:20260419T225056Z
LOCATION:Fairmont Hotel Vancouver - Pacific Ballroom | 900 W Georgia St.\, Vancouver | 
DESCRIPTION:Schedule: \nRegistration & Breakfast:  7:00 - 7:30 a.m. \nProgram:  7:30 - 9:00 a.m.\n\n \nEvent Detail Page: https://www.boardoftrade.com/events/6511
X-ALT-DESC;FMTTYPE=text/html:<!doctype html><html><body><div>Schedule: <p>Registration & Breakfast: &nbsp\;7:00 - 7:30 a.m. <BR>Program: &nbsp\;7:30 - 9:00 a.m.<BR></p></div>&nbsp\;<div>Event Detail Page: https://www.boardoftrade.com/events/6511</div></body></html>

SUMMARY:Closing the Gender Pay Gap
END:VEVENT
END:VCALENDAR