
BEGIN:VCALENDAR
VERSION:2.0
CALSCALE:GREGORIAN
BEGIN:VEVENT
URL;VALUE=URI:https://www.boardoftrade.com/events/6510
DTSTART:20200309T153000Z
DTEND:20200310T000000Z
UID:6510eventcalendar.boardoftrade.com
DTSTAMP:20260419T225032Z
LOCATION:Quality Hotel Abbotsford | 36035 N Parallel Rd | Abbotsford | 
DESCRIPTION:Schedule: \nRegistration:  8:30 - 9:00 a.m. \nProgram:  9:00 a.m. - 5:00 p.m.\n\n<em>Lunch will be provided</em>\n\n \nEvent Detail Page: https://www.boardoftrade.com/events/6510
X-ALT-DESC;FMTTYPE=text/html:<!doctype html><html><body><div>Schedule: <p>Registration: &nbsp\;8:30 - 9:00 a.m. <BR>Program: &nbsp\;9:00 a.m. - 5:00 p.m.<BR><BR><em>Lunch will be provided</em><BR></p></div>&nbsp\;<div>Event Detail Page: https://www.boardoftrade.com/events/6510</div></body></html>

SUMMARY:Abbotsford Trade Accelerator Program
END:VEVENT
END:VCALENDAR