
BEGIN:VCALENDAR
VERSION:2.0
CALSCALE:GREGORIAN
BEGIN:VEVENT
URL;VALUE=URI:https://www.boardoftrade.com/events/6509
DTSTART:20200221T163000Z
DTEND:20200221T181500Z
UID:6509eventcalendar.boardoftrade.com
DTSTAMP:20260419T224835Z
LOCATION:
DESCRIPTION:Schedule: \nRegistration and Breakfast: 8:30 - 9:00 a.m.\nProgram: 9:00 - 10:15 a.m.\n \nEvent Detail Page: https://www.boardoftrade.com/events/6509
X-ALT-DESC;FMTTYPE=text/html:<!doctype html><html><body><div>Schedule: <p>Registration and Breakfast: 8:30 - 9:00 a.m.<BR>Program: 9:00 - 10:15 a.m.</p></div>&nbsp\;<div>Event Detail Page: https://www.boardoftrade.com/events/6509</div></body></html>

SUMMARY:B.C. Budget Recap with Premier John Horgan
END:VEVENT
END:VCALENDAR