
BEGIN:VCALENDAR
VERSION:2.0
CALSCALE:GREGORIAN
BEGIN:VEVENT
URL;VALUE=URI:https://www.boardoftrade.com/events/6507
DTSTART:20191211T010000Z
DTEND:20191211T023000Z
UID:6507eventcalendar.boardoftrade.com
DTSTAMP:20260420T001136Z
LOCATION:Pinnacle Hotel HarbourfrontFoyer Lobby 1133 W Hastings Street\, Vancouver  | 
DESCRIPTION:Schedule: \nReception:  4:00 - 5:30 p.m.\n \nEvent Detail Page: https://www.boardoftrade.com/events/6507
X-ALT-DESC;FMTTYPE=text/html:<!doctype html><html><body><div>Schedule: <p>Reception: &nbsp\;4:00 - 5:30 p.m.</p></div>&nbsp\;<div>Event Detail Page: https://www.boardoftrade.com/events/6507</div></body></html>

SUMMARY:Members' Reception at  Pinnacle
END:VEVENT
END:VCALENDAR