
BEGIN:VCALENDAR
VERSION:2.0
CALSCALE:GREGORIAN
BEGIN:VEVENT
URL;VALUE=URI:https://www.boardoftrade.com/events/6506
DTSTART:20200211T163000Z
DTEND:20200212T010000Z
UID:6506eventcalendar.boardoftrade.com
DTSTAMP:20260419T224932Z
LOCATION:Executive Plaza Hotel | 405 North Rd\, Coquitlam\, BC V3K 3V9 |  | 
DESCRIPTION:Schedule: \nRegistration:  8:30 - 9:00 a.m. \nProgram:  9:00 a.m. - 5:00 p.m.\n\n<em>Lunch will be provided</em>\n \nEvent Detail Page: https://www.boardoftrade.com/events/6506
X-ALT-DESC;FMTTYPE=text/html:<!doctype html><html><body><div>Schedule: <p>Registration: &nbsp\;8:30 - 9:00 a.m. <BR>Program: &nbsp\;9:00 a.m. - 5:00 p.m.<BR><BR><em>Lunch will be provided</em></p></div>&nbsp\;<div>Event Detail Page: https://www.boardoftrade.com/events/6506</div></body></html>

SUMMARY:Tri-Cities Trade Accelerator Program
END:VEVENT
END:VCALENDAR