
BEGIN:VCALENDAR
VERSION:2.0
CALSCALE:GREGORIAN
BEGIN:VEVENT
URL;VALUE=URI:https://www.boardoftrade.com/events/6504
DTSTART:20200125T190000Z
DTEND:20200125T210000Z
UID:6504eventcalendar.boardoftrade.com
DTSTAMP:20260420T001056Z
LOCATION:Covenant House Vancouver1302 Seymour Street\, Vancouver | 
DESCRIPTION:Schedule: \nArrive at the Covenant House:  10:45 a.m. \nThank-A-Thon: 11:00 a.m. - 1:00 p.m. \n\n \nEvent Detail Page: https://www.boardoftrade.com/events/6504
X-ALT-DESC;FMTTYPE=text/html:<!doctype html><html><body><div>Schedule: <p>Arrive at the Covenant House:  10:45 a.m. <BR>Thank-A-Thon: 11:00 a.m. - 1:00 p.m. <BR></p></div>&nbsp\;<div>Event Detail Page: https://www.boardoftrade.com/events/6504</div></body></html>

SUMMARY:Thank-A-Thon with Covenant House Vancouver
END:VEVENT
END:VCALENDAR