
BEGIN:VCALENDAR
VERSION:2.0
CALSCALE:GREGORIAN
BEGIN:VEVENT
URL;VALUE=URI:https://www.boardoftrade.com/events/6503
DTSTART:20191206T153000Z
DTEND:20191206T173000Z
UID:6503eventcalendar.boardoftrade.com
DTSTAMP:20260420T001024Z
LOCATION:Vancity Theatre | 1181 Seymour Street\, Vancouver  | 
DESCRIPTION:Schedule: \nRegistration:  7:30 - 8:00 a.m. \nReception:  8:00  - 8:30 a.m.\nCommunity Dialogue:  8:30  - 9:30 a.m.\n \nEvent Detail Page: https://www.boardoftrade.com/events/6503
X-ALT-DESC;FMTTYPE=text/html:<!doctype html><html><body><div>Schedule: <p>Registration: &nbsp\;7:30 - 8:00 a.m. <BR>Reception: &nbsp\;8:00  - 8:30 a.m.<BR>Community Dialogue: &nbsp\;8:30  - 9:30 a.m.</p></div>&nbsp\;<div>Event Detail Page: https://www.boardoftrade.com/events/6503</div></body></html>

SUMMARY:Community Dialogue: BC Lung Association
END:VEVENT
END:VCALENDAR