
BEGIN:VCALENDAR
VERSION:2.0
CALSCALE:GREGORIAN
BEGIN:VEVENT
URL;VALUE=URI:https://www.boardoftrade.com/events/6502
DTSTART:20191128T151500Z
DTEND:20191128T170000Z
UID:6502eventcalendar.boardoftrade.com
DTSTAMP:20260420T001021Z
LOCATION:
DESCRIPTION:Schedule: \nPostponed\n \nEvent Detail Page: https://www.boardoftrade.com/events/6502
X-ALT-DESC;FMTTYPE=text/html:<!doctype html><html><body><div>Schedule: <p>Postponed</p></div>&nbsp\;<div>Event Detail Page: https://www.boardoftrade.com/events/6502</div></body></html>

SUMMARY:Kickstart Series: New Member Orientation and Networking
END:VEVENT
END:VCALENDAR