
BEGIN:VCALENDAR
VERSION:2.0
CALSCALE:GREGORIAN
BEGIN:VEVENT
URL;VALUE=URI:https://www.boardoftrade.com/events/6492
DTSTART:20191115T013000Z
DTEND:20191115T033000Z
UID:6492eventcalendar.boardoftrade.com
DTSTAMP:20260420T001304Z
LOCATION:Vancouver Public Library Rooftop Alice MacKay Room 350 West Georgia St\, Vancouver  | 
DESCRIPTION:Schedule: \nRegistration and Reception:   5:30 p.m - 6:00 p.m.\nKeynote Presentation:  6:00 p.m- 6:45 p.m.\nPLF Plans & Assignments: 6:45 p.m.- 7:00 p.m \nNetworking:  7:00 p.m - 7:30 p.m.\n\n \nEvent Detail Page: https://www.boardoftrade.com/events/6492
X-ALT-DESC;FMTTYPE=text/html:<!doctype html><html><body><div>Schedule: <p>Registration and Reception:   5:30 p.m - 6:00 p.m.<BR>Keynote Presentation:  6:00 p.m- 6:45 p.m.<BR>PLF Plans & Assignments: 6:45 p.m.- 7:00 p.m <BR>Networking:  7:00 p.m - 7:30 p.m.<BR></p></div>&nbsp\;<div>Event Detail Page: https://www.boardoftrade.com/events/6492</div></body></html>

SUMMARY:Leading with Emotional Intelligence and PLF Launch
END:VEVENT
END:VCALENDAR