
BEGIN:VCALENDAR
VERSION:2.0
CALSCALE:GREGORIAN
BEGIN:VEVENT
URL;VALUE=URI:https://www.boardoftrade.com/events/6487
DTSTART:20191210T153000Z
DTEND:20191210T230000Z
UID:6487eventcalendar.boardoftrade.com
DTSTAMP:20260420T001148Z
LOCATION:Pan Pacific Hotel - Oceanview Suite 1999 Canada Place\, Vancouver |  |  | 
DESCRIPTION:Schedule: \nLight Breakfast & Registration: 7:30 - 8:00 a.m. \nProgram: 8:00 a.m. - 12:00 p.m.\nNetworking Lunch: 12:00 - 12:45 p.m.\nProgram: 12:45 - 3:00 p.m.\n\n \nEvent Detail Page: https://www.boardoftrade.com/events/6487
X-ALT-DESC;FMTTYPE=text/html:<!doctype html><html><body><div>Schedule: <p>Light Breakfast & Registration: 7:30 - 8:00 a.m. <BR>Program: 8:00 a.m. - 12:00 p.m.<BR>Networking Lunch: 12:00 - 12:45 p.m.<BR>Program: 12:45 - 3:00 p.m.<BR></p></div>&nbsp\;<div>Event Detail Page: https://www.boardoftrade.com/events/6487</div></body></html>

SUMMARY:International e-Commerce Essentials
END:VEVENT
END:VCALENDAR