
BEGIN:VCALENDAR
VERSION:2.0
CALSCALE:GREGORIAN
BEGIN:VEVENT
URL;VALUE=URI:https://www.boardoftrade.com/events/6486
DTSTART:20200109T153000Z
DTEND:20200109T200000Z
UID:6486eventcalendar.boardoftrade.com
DTSTAMP:20260420T001224Z
LOCATION:Fairmont Hotel Vancouver - BC Ballroom | 900 West Georgia Street\, Vancouver  |  | 
DESCRIPTION:Schedule: \nRegistration & Breakfast: 7:30 - 8:00 a.m.\nProgram: 8:00 a.m. - 12:00 p.m.\n \nEvent Detail Page: https://www.boardoftrade.com/events/6486
X-ALT-DESC;FMTTYPE=text/html:<!doctype html><html><body><div>Schedule: <p>Registration & Breakfast: 7:30 - 8:00 a.m.<BR>Program: 8:00 a.m. - 12:00 p.m.</p></div>&nbsp\;<div>Event Detail Page: https://www.boardoftrade.com/events/6486</div></body></html>

SUMMARY:Economic Outlook Forum with Bank of Canada Governor Stephen Poloz
END:VEVENT
END:VCALENDAR