
BEGIN:VCALENDAR
VERSION:2.0
CALSCALE:GREGORIAN
BEGIN:VEVENT
URL;VALUE=URI:https://www.boardoftrade.com/events/6484
DTSTART:20200214T160000Z
DTEND:20200214T180000Z
UID:6484eventcalendar.boardoftrade.com
DTSTAMP:20260419T224934Z
LOCATION:SAP Vancouver Office910 Mainland Street\, Vancouver | 
DESCRIPTION:Schedule: \nRegistration & Light Breakfast: 8:00 - 8:15 a.m\nProgram & Questions: 8:15 - 9:15 a.m\nOffice tour: 9:15 - 9:45 a.m\nNetworking: 9:45 - 10:00 a.m\n \nEvent Detail Page: https://www.boardoftrade.com/events/6484
X-ALT-DESC;FMTTYPE=text/html:<!doctype html><html><body><div>Schedule: <p>Registration & Light Breakfast: 8:00 - 8:15 a.m<BR>Program & Questions: 8:15 - 9:15 a.m<BR>Office tour: 9:15 - 9:45 a.m<BR>Networking: 9:45 - 10:00 a.m</p></div>&nbsp\;<div>Event Detail Page: https://www.boardoftrade.com/events/6484</div></body></html>

SUMMARY:Discovery Series: Exclusive roundtable and office tour with SAP
END:VEVENT
END:VCALENDAR