
BEGIN:VCALENDAR
VERSION:2.0
CALSCALE:GREGORIAN
BEGIN:VEVENT
URL;VALUE=URI:https://www.boardoftrade.com/events/6482
DTSTART:20191122T170000Z
DTEND:20191123T070000Z
UID:6482eventcalendar.boardoftrade.com
DTSTAMP:20260420T001311Z
LOCATION:Electronic Arts (EA)Left/Right Brain Room4330 Sanderson Way\, Burnaby | 
DESCRIPTION:Schedule: \nRegistration & Light Breakfast:  9:00 - 9:30 a.m.\nRoundtable Discussion:  9:30 - 10:30 a.m.\nEA Office Tour:  10:30 - 11:00 a.m.\n\n \nEvent Detail Page: https://www.boardoftrade.com/events/6482
X-ALT-DESC;FMTTYPE=text/html:<!doctype html><html><body><div>Schedule: <p>Registration & Light Breakfast:  9:00 - 9:30 a.m.<BR>Roundtable Discussion:  9:30 - 10:30 a.m.<BR>EA Office Tour:  10:30 - 11:00 a.m.<BR></p></div>&nbsp\;<div>Event Detail Page: https://www.boardoftrade.com/events/6482</div></body></html>

SUMMARY:Discovery Series: <br>Exclusive roundtable and office tour with  Electronic Arts
END:VEVENT
END:VCALENDAR