
BEGIN:VCALENDAR
VERSION:2.0
CALSCALE:GREGORIAN
BEGIN:VEVENT
URL;VALUE=URI:https://www.boardoftrade.com/events/6481
DTSTART:20191213T153000Z
DTEND:20191213T200000Z
UID:6481eventcalendar.boardoftrade.com
DTSTAMP:20260420T001446Z
LOCATION:Downtown Vancouver |  | 
DESCRIPTION:Schedule: \nRegistration & Breakfast: 7:30 - 8:00 a.m.\nProgram: 8:00 a.m. - 12:00 p.m. \n\n \nEvent Detail Page: https://www.boardoftrade.com/events/6481
X-ALT-DESC;FMTTYPE=text/html:<!doctype html><html><body><div>Schedule: <p>Registration & Breakfast: 7:30 - 8:00 a.m.<BR>Program: 8:00 a.m. - 12:00 p.m. <BR></p></div>&nbsp\;<div>Event Detail Page: https://www.boardoftrade.com/events/6481</div></body></html>

SUMMARY:Energy Forum Presented by Bennett Jones
END:VEVENT
END:VCALENDAR