
BEGIN:VCALENDAR
VERSION:2.0
CALSCALE:GREGORIAN
BEGIN:VEVENT
URL;VALUE=URI:https://www.boardoftrade.com/events/6477
DTSTART:20191028T183000Z
DTEND:20191028T210000Z
UID:6477eventcalendar.boardoftrade.com
DTSTAMP:20260420T001223Z
LOCATION:Four Seasons Hotel VancouverPark Ballroom 791 West Georgia Street\, Vancouver  | 
DESCRIPTION:Schedule: \nRegistration:  11:30 a.m.\nLunch and Program:  12:00 - 2:00 p.m.\n \nEvent Detail Page: https://www.boardoftrade.com/events/6477
X-ALT-DESC;FMTTYPE=text/html:<!doctype html><html><body><div>Schedule: <p>Registration: &nbsp\;11:30 a.m.<BR>Lunch and Program: &nbsp\;12:00 - 2:00 p.m.</p></div>&nbsp\;<div>Event Detail Page: https://www.boardoftrade.com/events/6477</div></body></html>

SUMMARY:What to Do When Things Go Wrong: Crisis Planning with former Super Bowl Executive Frank Supovitz
END:VEVENT
END:VCALENDAR