
BEGIN:VCALENDAR
VERSION:2.0
CALSCALE:GREGORIAN
BEGIN:VEVENT
URL;VALUE=URI:https://www.boardoftrade.com/events/6476
DTSTART:20190908T003000Z
DTEND:20190908T033000Z
UID:6476eventcalendar.boardoftrade.com
DTSTAMP:20260420T001056Z
LOCATION:Sunset Beach 1204 Beach Ave\, Vancouver  | 
DESCRIPTION:Schedule: \nProgram: 5:30 – 8:30 p.m.\n \nEvent Detail Page: https://www.boardoftrade.com/events/6476
X-ALT-DESC;FMTTYPE=text/html:<!doctype html><html><body><div>Schedule: <p>Program: 5:30 – 8:30 p.m.</p></div>&nbsp\;<div>Event Detail Page: https://www.boardoftrade.com/events/6476</div></body></html>

SUMMARY:Volunteer with HUB Cycling
END:VEVENT
END:VCALENDAR