
BEGIN:VCALENDAR
VERSION:2.0
CALSCALE:GREGORIAN
BEGIN:VEVENT
URL;VALUE=URI:https://www.boardoftrade.com/events/6471
DTSTART:20210408T013000Z
DTEND:20210408T033000Z
UID:6471eventcalendar.boardoftrade.com
DTSTAMP:20260419T190942Z
LOCATION:
DESCRIPTION:Schedule: \nPre-Show: 6:30 PM - 7:00 p.m. PT\nGovernors' Gala & Rix Awards: 7:00 - 8:45 p.m. PT\n \nEvent Detail Page: https://www.boardoftrade.com/events/6471
X-ALT-DESC;FMTTYPE=text/html:<!doctype html><html><body><div>Schedule: <p>Pre-Show: 6:30 PM - 7:00 p.m. PT<BR>Governors' Gala & Rix Awards: 7:00 - 8:45 p.m. PT</p></div>&nbsp\;<div>Event Detail Page: https://www.boardoftrade.com/events/6471</div></body></html>

SUMMARY:Governors’ Gala and Rix Awards 2021
END:VEVENT
END:VCALENDAR