
BEGIN:VCALENDAR
VERSION:2.0
CALSCALE:GREGORIAN
BEGIN:VEVENT
URL;VALUE=URI:https://www.boardoftrade.com/events/6468
DTSTART:20191107T193000Z
DTEND:20191107T220000Z
UID:6468eventcalendar.boardoftrade.com
DTSTAMP:20260420T001304Z
LOCATION:Fairmont Hotel Vancouver 900 W Georgia St\, Vancouver | 
DESCRIPTION:Schedule: \n<strong>AGM Business Portion: Members Only</strong>\n<em>Vancouver Island Room</em>\nRegistration: 10:00 a.m.\nProgram: 10:30 - 11:30 a.m.\n\n<strong>Lunch Keynote: </strong>\n<em>Pacific Ballroom</em>\nRegistration: 11:30 a.m.\nProgram: 12:00 - 2:00 p.m.\n \nEvent Detail Page: https://www.boardoftrade.com/events/6468
X-ALT-DESC;FMTTYPE=text/html:<!doctype html><html><body><div>Schedule: <p><strong>AGM Business Portion: Members Only</strong><BR><em>Vancouver Island Room</em><BR>Registration: 10:00 a.m.<BR>Program: 10:30 - 11:30 a.m.<BR><BR><strong>Lunch Keynote: </strong><BR><em>Pacific Ballroom</em><BR>Registration: 11:30 a.m.<BR>Program: 12:00 - 2:00 p.m.</p></div>&nbsp\;<div>Event Detail Page: https://www.boardoftrade.com/events/6468</div></body></html>

SUMMARY:132nd AGM and State of the City address with Mayor Kennedy Stewart
END:VEVENT
END:VCALENDAR