
BEGIN:VCALENDAR
VERSION:2.0
CALSCALE:GREGORIAN
BEGIN:VEVENT
URL;VALUE=URI:https://www.boardoftrade.com/events/6467
DTSTART:20191126T193000Z
DTEND:20191126T220000Z
UID:6467eventcalendar.boardoftrade.com
DTSTAMP:20260420T001446Z
LOCATION:Fairmont Waterfront Hotel - Mackenzie Ballroom 900 Canada PlaceVancouver | 
DESCRIPTION:Schedule: \nRegistration:   11:30 a.m.\nLunch and Program:   12:00 - 2:00 p.m.\n \nEvent Detail Page: https://www.boardoftrade.com/events/6467
X-ALT-DESC;FMTTYPE=text/html:<!doctype html><html><body><div>Schedule: <p>Registration:  &nbsp\;11:30 a.m.<BR>Lunch and Program:  &nbsp\;12:00 - 2:00 p.m.</p></div>&nbsp\;<div>Event Detail Page: https://www.boardoftrade.com/events/6467</div></body></html>

SUMMARY:How aging boomers are impacting your business - and what to do about it
END:VEVENT
END:VCALENDAR